Package: DEWSeq
Version: 1.14.0
Command: /home/biocbuild/bbs-3.17-bioc/R/bin/R CMD build --keep-empty-dirs --no-resave-data DEWSeq
StartedAt: 2023-10-15 16:35:18 -0400 (Sun, 15 Oct 2023)
EndedAt: 2023-10-15 16:37:09 -0400 (Sun, 15 Oct 2023)
EllapsedTime: 110.7 seconds
RetCode: 0
Status: OK
PackageFile: DEWSeq_1.14.0.tar.gz
PackageFileSize: 3.305 <A href="http://en.wikipedia.org/wiki/MiB" target="_blank">MiB</A>