git_url: https://git.bioconductor.org/packages/DEGseq
git_branch: RELEASE_3_17
git_last_commit: 0278561
git_last_commit_date: 2023-04-25 09:49:52 -0400 (Tue, 25 Apr 2023)
Package: DEGseq
Version: 1.54.0
Maintainer: Likun Wang
MaintainerEmail: wanglk at hsc.pku.edu.cn