git_url: https://git.bioconductor.org/packages/DEGreport
git_branch: RELEASE_3_17
git_last_commit: 1aae69c
git_last_commit_date: 2023-04-25 10:32:39 -0400 (Tue, 25 Apr 2023)
Package: DEGreport
Version: 1.36.0
Maintainer: Lorena Pantano
MaintainerEmail: lorena.pantano at gmail.com