git_url: https://git.bioconductor.org/packages/DEFormats
git_branch: RELEASE_3_17
git_last_commit: 208c3aa
git_last_commit_date: 2023-04-25 10:45:38 -0400 (Tue, 25 Apr 2023)
Package: DEFormats
Version: 1.28.0
Maintainer: Andrzej OleÅ›
MaintainerEmail: andrzej.oles at gmail.com