Package: CytoPipeline
Version: 1.0.2
Command: /Library/Frameworks/R.framework/Resources/bin/R CMD INSTALL CytoPipeline
StartedAt: 2023-10-15 15:48:13 -0400 (Sun, 15 Oct 2023)
EndedAt: 2023-10-15 15:49:04 -0400 (Sun, 15 Oct 2023)
EllapsedTime: 51.6 seconds
RetCode: 0
Status: OK