Package: CytoPipeline
Version: 1.0.2
Command: /Library/Frameworks/R.framework/Resources/bin/R CMD check --install=check:CytoPipeline.install-out.txt --library=/Library/Frameworks/R.framework/Resources/library --no-vignettes --timings CytoPipeline_1.0.2.tar.gz
StartedAt: 2023-10-16 00:34:54 -0400 (Mon, 16 Oct 2023)
EndedAt: 2023-10-16 00:45:27 -0400 (Mon, 16 Oct 2023)
EllapsedTime: 632.5 seconds
RetCode: 0
Status: OK
CheckDir: CytoPipeline.Rcheck
Warnings: 0