Package: CytoPipeline
Version: 1.0.2
Command: /Library/Frameworks/R.framework/Resources/bin/R CMD build --keep-empty-dirs --no-resave-data CytoPipeline
StartedAt: 2023-10-15 17:47:26 -0400 (Sun, 15 Oct 2023)
EndedAt: 2023-10-15 17:49:19 -0400 (Sun, 15 Oct 2023)
EllapsedTime: 113.1 seconds
RetCode: 0
Status: OK
PackageFile: CytoPipeline_1.0.2.tar.gz
PackageFileSize: 3.087 <A href="http://en.wikipedia.org/wiki/MiB" target="_blank">MiB</A>