Package: CytoPipeline Version: 1.0.2 Command: rm -rf CytoPipeline.buildbin-libdir && mkdir CytoPipeline.buildbin-libdir && /Users/biocbuild/BBS/utils/build-universal.sh CytoPipeline_1.0.2.tar.gz /Library/Frameworks/R.framework/Resources/bin/R CytoPipeline.buildbin-libdir StartedAt: 2023-10-16 09:14:28 -0400 (Mon, 16 Oct 2023) EndedAt: 2023-10-16 09:15:26 -0400 (Mon, 16 Oct 2023) EllapsedTime: 58.3 seconds RetCode: 0 Status: OK PackageFile: CytoPipeline_1.0.2.tgz PackageFileSize: 3.179 <A href="http://en.wikipedia.org/wiki/MiB" target="_blank">MiB</A>