git_url: https://git.bioconductor.org/packages/CompoundDb
git_branch: RELEASE_3_17
git_last_commit: 5c0f833
git_last_commit_date: 2023-04-25 11:35:41 -0400 (Tue, 25 Apr 2023)
Package: CompoundDb
Version: 1.4.0
Maintainer: Johannes Rainer
MaintainerEmail: johannes.rainer at eurac.edu