git_url: https://git.bioconductor.org/packages/ComplexHeatmap
git_branch: RELEASE_3_17
git_last_commit: 01eb55c
git_last_commit_date: 2023-04-25 10:38:43 -0400 (Tue, 25 Apr 2023)
Package: ComplexHeatmap
Version: 2.16.0
Maintainer: Zuguang Gu
MaintainerEmail: z.gu at dkfz.de