Package: CoGAPS
Version: 3.19.0
Command: F:\biocbuild\bbs-3.17-bioc\R\bin\R.exe CMD check --no-multiarch --install=check:CoGAPS.install-out.txt --library=F:\biocbuild\bbs-3.17-bioc\R\library --no-vignettes --timings CoGAPS_3.19.0.tar.gz
StartedAt: 2023-03-18 00:40:47 -0400 (Sat, 18 Mar 2023)
EndedAt: 2023-03-18 00:53:44 -0400 (Sat, 18 Mar 2023)
EllapsedTime: 776.5 seconds
RetCode: 0
Status: WARNINGS
CheckDir: CoGAPS.Rcheck
Warnings: 2