Package: CoGAPS
Version: 3.20.0
Command: chmod a+r CoGAPS -R && F:\biocbuild\bbs-3.17-bioc\R\bin\R.exe CMD build --keep-empty-dirs --no-resave-data CoGAPS
StartedAt: 2023-10-15 18:15:28 -0400 (Sun, 15 Oct 2023)
EndedAt: 2023-10-15 18:33:51 -0400 (Sun, 15 Oct 2023)
EllapsedTime: 1103.0 seconds
RetCode: 1
Status: ERROR
PackageFile: None
PackageFileSize: NA