Package: CoGAPS
Version: 3.19.0
Command: rm -rf CoGAPS.buildbin-libdir && mkdir CoGAPS.buildbin-libdir && F:\biocbuild\bbs-3.17-bioc\R\bin\R.exe CMD INSTALL --build --library=CoGAPS.buildbin-libdir CoGAPS_3.19.0.tar.gz
StartedAt: 2023-03-18 10:22:41 -0400 (Sat, 18 Mar 2023)
EndedAt: 2023-03-18 10:26:47 -0400 (Sat, 18 Mar 2023)
EllapsedTime: 245.6 seconds
RetCode: 0
Status: OK
PackageFile: CoGAPS_3.19.0.zip
PackageFileSize: 20.53 <A href="http://en.wikipedia.org/wiki/MiB" target="_blank">MiB</A>