git_url: https://git.bioconductor.org/packages/ClusterSignificance
git_branch: RELEASE_3_17
git_last_commit: dee35a7
git_last_commit_date: 2023-04-25 10:46:35 -0400 (Tue, 25 Apr 2023)
Package: ClusterSignificance
Version: 1.28.0
Maintainer: Jason T Serviss
MaintainerEmail: jason.serviss at ki.se