Package: CircSeqAlignTk Version: 1.2.0 Command: rm -rf CircSeqAlignTk.buildbin-libdir && mkdir CircSeqAlignTk.buildbin-libdir && F:\biocbuild\bbs-3.17-bioc\R\bin\R.exe CMD INSTALL --build --library=CircSeqAlignTk.buildbin-libdir CircSeqAlignTk_1.2.0.tar.gz StartedAt: 2023-10-16 08:35:13 -0400 (Mon, 16 Oct 2023) EndedAt: 2023-10-16 08:36:01 -0400 (Mon, 16 Oct 2023) EllapsedTime: 47.8 seconds RetCode: 0 Status: OK PackageFile: CircSeqAlignTk_1.2.0.zip PackageFileSize: 1.494 MiB