Package: CircSeqAlignTk Version: 1.2.0 Command: /Library/Frameworks/R.framework/Resources/bin/R CMD build --keep-empty-dirs --no-resave-data CircSeqAlignTk StartedAt: 2023-10-15 17:26:31 -0400 (Sun, 15 Oct 2023) EndedAt: 2023-10-15 17:32:37 -0400 (Sun, 15 Oct 2023) EllapsedTime: 366.3 seconds RetCode: 0 Status: OK PackageFile: CircSeqAlignTk_1.2.0.tar.gz PackageFileSize: 1.899 MiB