Package: CircSeqAlignTk
Version: 1.2.0
Command: rm -rf CircSeqAlignTk.buildbin-libdir && mkdir CircSeqAlignTk.buildbin-libdir && /Users/biocbuild/BBS/utils/build-universal.sh CircSeqAlignTk_1.2.0.tar.gz /Library/Frameworks/R.framework/Resources/bin/R CircSeqAlignTk.buildbin-libdir
StartedAt: 2023-10-16 09:09:05 -0400 (Mon, 16 Oct 2023)
EndedAt: 2023-10-16 09:11:22 -0400 (Mon, 16 Oct 2023)
EllapsedTime: 137.0 seconds
RetCode: 0
Status: OK
PackageFile: CircSeqAlignTk_1.2.0.tgz
PackageFileSize: 1.65 <A href="http://en.wikipedia.org/wiki/MiB" target="_blank">MiB</A>