git_url: https://git.bioconductor.org/packages/ChromHeatMap
git_branch: RELEASE_3_17
git_last_commit: de12140
git_last_commit_date: 2023-04-25 09:49:41 -0400 (Tue, 25 Apr 2023)
Package: ChromHeatMap
Version: 1.54.0
Maintainer: Tim F. Rayner
MaintainerEmail: tfrayner at gmail.com