git_url: https://git.bioconductor.org/packages/CellMapper
git_branch: RELEASE_3_17
git_last_commit: f931892
git_last_commit_date: 2023-04-25 10:48:48 -0400 (Tue, 25 Apr 2023)
Package: CellMapper
Version: 1.26.0
Maintainer: Brad Nelms
MaintainerEmail: bnelms.research at gmail.com