Package: CTdata Version: 1.0.2 Command: /home/biocbuild/bbs-3.17-bioc/R/bin/R CMD INSTALL CTdata StartedAt: 2023-10-15 15:49:11 -0400 (Sun, 15 Oct 2023) EndedAt: 2023-10-15 15:49:31 -0400 (Sun, 15 Oct 2023) EllapsedTime: 19.4 seconds RetCode: 0 Status: OK