git_url: https://git.bioconductor.org/packages/CTSV
git_branch: RELEASE_3_17
git_last_commit: a68ec55
git_last_commit_date: 2023-04-25 11:38:47 -0400 (Tue, 25 Apr 2023)
Package: CTSV
Version: 1.2.0
Maintainer: Jinge Yu Developer
MaintainerEmail: yjgruc at ruc.edu.cn