Package: CRImage
Version: 1.48.0
Command: F:\biocbuild\bbs-3.17-bioc\R\bin\R.exe CMD check --no-multiarch --install=check:CRImage.install-out.txt --library=F:\biocbuild\bbs-3.17-bioc\R\library --no-vignettes --timings CRImage_1.48.0.tar.gz
StartedAt: 2023-10-16 01:01:40 -0400 (Mon, 16 Oct 2023)
EndedAt: 2023-10-16 01:03:05 -0400 (Mon, 16 Oct 2023)
EllapsedTime: 85.1 seconds
RetCode: 0
Status: OK
CheckDir: CRImage.Rcheck
Warnings: 0