Package: CRImage
Version: 1.48.0
Command: chmod a+r CRImage -R && F:\biocbuild\bbs-3.17-bioc\R\bin\R.exe CMD build --keep-empty-dirs --no-resave-data CRImage
StartedAt: 2023-10-15 18:24:23 -0400 (Sun, 15 Oct 2023)
EndedAt: 2023-10-15 18:24:52 -0400 (Sun, 15 Oct 2023)
EllapsedTime: 29.1 seconds
RetCode: 0
Status: OK
PackageFile: CRImage_1.48.0.tar.gz
PackageFileSize: 7.554 <A href="http://en.wikipedia.org/wiki/MiB" target="_blank">MiB</A>