Package: CRImage
Version: 1.48.0
Command: rm -rf CRImage.buildbin-libdir && mkdir CRImage.buildbin-libdir && F:\biocbuild\bbs-3.17-bioc\R\bin\R.exe CMD INSTALL --build --library=CRImage.buildbin-libdir CRImage_1.48.0.tar.gz
StartedAt: 2023-10-16 08:38:32 -0400 (Mon, 16 Oct 2023)
EndedAt: 2023-10-16 08:38:50 -0400 (Mon, 16 Oct 2023)
EllapsedTime: 17.8 seconds
RetCode: 0
Status: OK
PackageFile: CRImage_1.48.0.zip
PackageFileSize: 6.459 <A href="http://en.wikipedia.org/wiki/MiB" target="_blank">MiB</A>