git_url: https://git.bioconductor.org/packages/COTAN
git_branch: RELEASE_3_17
git_last_commit: 0bc776a
git_last_commit_date: 2023-08-12 11:29:20 -0400 (Sat, 12 Aug 2023)
Package: COTAN
Version: 2.0.5
Maintainer: Galfrè Silvia Giulia
MaintainerEmail: silvia.galfre at di.unipi.it