Package: COSNet Version: 1.34.0 Command: F:\biocbuild\bbs-3.17-bioc\R\bin\R.exe CMD INSTALL COSNet StartedAt: 2023-10-15 15:50:42 -0400 (Sun, 15 Oct 2023) EndedAt: 2023-10-15 15:50:54 -0400 (Sun, 15 Oct 2023) EllapsedTime: 12.8 seconds RetCode: 0 Status: OK