Package: COSNet Version: 1.34.0 Command: F:\biocbuild\bbs-3.17-bioc\R\bin\R.exe CMD check --no-multiarch --install=check:COSNet.install-out.txt --library=F:\biocbuild\bbs-3.17-bioc\R\library --no-vignettes --timings COSNet_1.34.0.tar.gz StartedAt: 2023-10-16 01:00:58 -0400 (Mon, 16 Oct 2023) EndedAt: 2023-10-16 01:01:38 -0400 (Mon, 16 Oct 2023) EllapsedTime: 40.3 seconds RetCode: 0 Status: WARNINGS CheckDir: COSNet.Rcheck Warnings: 1