Package: COSNet Version: 1.34.0 Command: /home/biocbuild/bbs-3.17-bioc/R/bin/R CMD INSTALL COSNet StartedAt: 2023-10-15 15:08:49 -0400 (Sun, 15 Oct 2023) EndedAt: 2023-10-15 15:09:02 -0400 (Sun, 15 Oct 2023) EllapsedTime: 12.4 seconds RetCode: 0 Status: OK