git_url: https://git.bioconductor.org/packages/CNVMetrics
git_branch: RELEASE_3_17
git_last_commit: f240f40
git_last_commit_date: 2023-04-25 11:35:08 -0400 (Tue, 25 Apr 2023)
Package: CNVMetrics
Version: 1.4.0
Maintainer: Astrid Deschênes
MaintainerEmail: adeschen at hotmail.com