Package: CNTools
Version: 1.56.0
Command: F:\biocbuild\bbs-3.17-bioc\R\bin\R.exe CMD INSTALL CNTools
StartedAt: 2023-10-15 16:37:04 -0400 (Sun, 15 Oct 2023)
EndedAt: 2023-10-15 16:37:34 -0400 (Sun, 15 Oct 2023)
EllapsedTime: 30.7 seconds
RetCode: 0
Status: OK