Package: CNTools
Version: 1.56.0
Command: F:\biocbuild\bbs-3.17-bioc\R\bin\R.exe CMD check --no-multiarch --install=check:CNTools.install-out.txt --library=F:\biocbuild\bbs-3.17-bioc\R\library --no-vignettes --timings CNTools_1.56.0.tar.gz
StartedAt: 2023-10-16 00:46:12 -0400 (Mon, 16 Oct 2023)
EndedAt: 2023-10-16 00:48:33 -0400 (Mon, 16 Oct 2023)
EllapsedTime: 140.2 seconds
RetCode: 0
Status: OK
CheckDir: CNTools.Rcheck
Warnings: 0