Package: CNTools
Version: 1.56.0
Command: chmod a+r CNTools -R && F:\biocbuild\bbs-3.17-bioc\R\bin\R.exe CMD build --keep-empty-dirs --no-resave-data CNTools
StartedAt: 2023-10-15 18:13:47 -0400 (Sun, 15 Oct 2023)
EndedAt: 2023-10-15 18:14:21 -0400 (Sun, 15 Oct 2023)
EllapsedTime: 34.2 seconds
RetCode: 0
Status: OK
PackageFile: CNTools_1.56.0.tar.gz
PackageFileSize: 868.9 <A href="http://en.wikipedia.org/wiki/KiB" target="_blank">KiB</A>