##############################################################################
##############################################################################
###
### Running command:
###
###   rm -rf CNTools.buildbin-libdir && mkdir CNTools.buildbin-libdir && F:\biocbuild\bbs-3.17-bioc\R\bin\R.exe CMD INSTALL --build --library=CNTools.buildbin-libdir CNTools_1.56.0.tar.gz
###
##############################################################################
##############################################################################


* installing *source* package 'CNTools' ...
** using staged installation
** libs
using C compiler: 'gcc.exe (GCC) 12.2.0'
gcc  -I"F:/biocbuild/bbs-3.17-bioc/R/include" -DNDEBUG     -I"C:/rtools43/x86_64-w64-mingw32.static.posix/include"     -O2 -Wall  -mfpmath=sse -msse2 -mstackrealign  -c getratios.c -o getratios.o
gcc -shared -s -static-libgcc -o CNTools.dll tmp.def getratios.o -LC:/rtools43/x86_64-w64-mingw32.static.posix/lib/x64 -LC:/rtools43/x86_64-w64-mingw32.static.posix/lib -LF:/biocbuild/bbs-3.17-bioc/R/bin/x64 -lR
installing to F:/biocbuild/bbs-3.17-bioc/meat/CNTools.buildbin-libdir/00LOCK-CNTools/00new/CNTools/libs/x64
** R
** data
** inst
** byte-compile and prepare package for lazy loading
Creating a new generic function for 'start' in package 'CNTools'
Creating a new generic function for 'end' in package 'CNTools'
Creating a generic function for 'genefilter' from package 'genefilter' in package 'CNTools'
** help
*** installing help indices
** building package indices
** installing vignettes
** testing if installed package can be loaded from temporary location
** testing if installed package can be loaded from final location
** testing if installed package keeps a record of temporary installation path
* MD5 sums
packaged installation of 'CNTools' as CNTools_1.56.0.zip
* DONE (CNTools)