git_url: https://git.bioconductor.org/packages/CNORfeeder
git_branch: RELEASE_3_17
git_last_commit: 7787c6f
git_last_commit_date: 2023-04-25 10:26:21 -0400 (Tue, 25 Apr 2023)
Package: CNORfeeder
Version: 1.40.0
Maintainer: Attila Gabor
MaintainerEmail: attila.gabor at uni-heidelberg.de