Package: CGHbase
Version: 1.60.0
Command: /home/biocbuild/bbs-3.17-bioc/R/bin/R CMD INSTALL CGHbase
StartedAt: 2023-10-15 15:13:03 -0400 (Sun, 15 Oct 2023)
EndedAt: 2023-10-15 15:13:09 -0400 (Sun, 15 Oct 2023)
EllapsedTime: 6.4 seconds
RetCode: 0
Status: OK