Package: CGHbase
Version: 1.60.0
Command: /home/biocbuild/bbs-3.17-bioc/R/bin/R CMD check --install=check:CGHbase.install-out.txt --library=/home/biocbuild/bbs-3.17-bioc/R/site-library --timings CGHbase_1.60.0.tar.gz
StartedAt: 2023-10-15 19:59:56 -0400 (Sun, 15 Oct 2023)
EndedAt: 2023-10-15 20:00:30 -0400 (Sun, 15 Oct 2023)
EllapsedTime: 33.7 seconds
RetCode: 0
Status: OK
CheckDir: CGHbase.Rcheck
Warnings: 0