Package: CGHbase
Version: 1.60.0
Command: rm -rf CGHbase.buildbin-libdir && mkdir CGHbase.buildbin-libdir && /Users/biocbuild/BBS/utils/build-universal.sh CGHbase_1.60.0.tar.gz /Library/Frameworks/R.framework/Resources/bin/R CGHbase.buildbin-libdir
StartedAt: 2023-10-16 09:07:18 -0400 (Mon, 16 Oct 2023)
EndedAt: 2023-10-16 09:07:38 -0400 (Mon, 16 Oct 2023)
EllapsedTime: 20.7 seconds
RetCode: 0
Status: OK
PackageFile: CGHbase_1.60.0.tgz
PackageFileSize: 1.055 <A href="http://en.wikipedia.org/wiki/MiB" target="_blank">MiB</A>