git_url: https://git.bioconductor.org/packages/CAEN
git_branch: RELEASE_3_17
git_last_commit: 406864f
git_last_commit_date: 2023-04-25 11:25:44 -0400 (Tue, 25 Apr 2023)
Package: CAEN
Version: 1.8.0
Maintainer: Zhou Yan
MaintainerEmail: 2160090406 at email.szu.edu.cn