Package: BrowserViz Version: 2.22.0 Command: F:\biocbuild\bbs-3.17-bioc\R\bin\R.exe CMD check --no-multiarch --install=check:BrowserViz.install-out.txt --library=F:\biocbuild\bbs-3.17-bioc\R\library --no-vignettes --timings BrowserViz_2.22.0.tar.gz StartedAt: 2023-10-16 00:09:01 -0400 (Mon, 16 Oct 2023) EndedAt: 2023-10-16 00:09:35 -0400 (Mon, 16 Oct 2023) EllapsedTime: 33.3 seconds RetCode: 0 Status: OK CheckDir: BrowserViz.Rcheck Warnings: 0