Package: BrowserViz Version: 2.22.0 Command: chmod a+r BrowserViz -R && F:\biocbuild\bbs-3.17-bioc\R\bin\R.exe CMD build --keep-empty-dirs --no-resave-data BrowserViz StartedAt: 2023-10-15 17:50:25 -0400 (Sun, 15 Oct 2023) EndedAt: 2023-10-15 17:50:36 -0400 (Sun, 15 Oct 2023) EllapsedTime: 11.9 seconds RetCode: 0 Status: OK PackageFile: BrowserViz_2.22.0.tar.gz PackageFileSize: 241.1 KiB