Package: BrowserViz Version: 2.22.0 Command: /home/biocbuild/bbs-3.17-bioc/R/bin/R CMD build --keep-empty-dirs --no-resave-data BrowserViz StartedAt: 2023-10-15 16:09:44 -0400 (Sun, 15 Oct 2023) EndedAt: 2023-10-15 16:09:50 -0400 (Sun, 15 Oct 2023) EllapsedTime: 5.9 seconds RetCode: 0 Status: OK PackageFile: BrowserViz_2.22.0.tar.gz PackageFileSize: 240.9 KiB