Package: BrowserViz Version: 2.22.0 Command: rm -rf BrowserViz.buildbin-libdir && mkdir BrowserViz.buildbin-libdir && /Users/biocbuild/BBS/utils/build-universal.sh BrowserViz_2.22.0.tar.gz /Library/Frameworks/R.framework/Resources/bin/R BrowserViz.buildbin-libdir StartedAt: 2023-10-16 09:03:53 -0400 (Mon, 16 Oct 2023) EndedAt: 2023-10-16 09:04:08 -0400 (Mon, 16 Oct 2023) EllapsedTime: 14.8 seconds RetCode: 0 Status: OK PackageFile: BrowserViz_2.22.0.tgz PackageFileSize: 412.9 KiB