git_url: https://git.bioconductor.org/packages/BiocSklearn
git_branch: RELEASE_3_17
git_last_commit: 1d00672
git_last_commit_date: 2023-04-25 10:55:36 -0400 (Tue, 25 Apr 2023)
Package: BiocSklearn
Version: 1.22.0
Maintainer: Vince Carey
MaintainerEmail: stvjc at channing.harvard.edu