git_url: https://git.bioconductor.org/packages/BiocParallel
git_branch: RELEASE_3_17
git_last_commit: 77491b2
git_last_commit_date: 2023-05-22 11:36:52 -0400 (Mon, 22 May 2023)
Package: BiocParallel
Version: 1.34.2
Maintainer: Martin Morgan
MaintainerEmail: mtmorgan.bioc at gmail.com