Package: BiocOncoTK Version: 1.20.0 Command: rm -rf BiocOncoTK.buildbin-libdir && mkdir BiocOncoTK.buildbin-libdir && F:\biocbuild\bbs-3.17-bioc\R\bin\R.exe CMD INSTALL --build --library=BiocOncoTK.buildbin-libdir BiocOncoTK_1.20.0.tar.gz StartedAt: 2023-10-16 08:28:57 -0400 (Mon, 16 Oct 2023) EndedAt: 2023-10-16 08:30:01 -0400 (Mon, 16 Oct 2023) EllapsedTime: 64.9 seconds RetCode: 0 Status: OK PackageFile: BiocOncoTK_1.20.0.zip PackageFileSize: 7.88 MiB