Package: BiocOncoTK Version: 1.20.0 Command: /home/biocbuild/bbs-3.17-bioc/R/bin/R CMD INSTALL BiocOncoTK StartedAt: 2023-10-15 15:49:13 -0400 (Sun, 15 Oct 2023) EndedAt: 2023-10-15 15:50:04 -0400 (Sun, 15 Oct 2023) EllapsedTime: 51.2 seconds RetCode: 0 Status: OK