Package: BiocOncoTK Version: 1.20.0 Command: rm -rf BiocOncoTK.buildbin-libdir && mkdir BiocOncoTK.buildbin-libdir && /Users/biocbuild/BBS/utils/build-universal.sh BiocOncoTK_1.20.0.tar.gz /Library/Frameworks/R.framework/Resources/bin/R BiocOncoTK.buildbin-libdir StartedAt: 2023-10-16 09:02:01 -0400 (Mon, 16 Oct 2023) EndedAt: 2023-10-16 09:04:50 -0400 (Mon, 16 Oct 2023) EllapsedTime: 169.8 seconds RetCode: 0 Status: OK PackageFile: BiocOncoTK_1.20.0.tgz PackageFileSize: 8.69 MiB