git_url: https://git.bioconductor.org/packages/BiocGenerics git_branch: RELEASE_3_17 git_last_commit: a90f0c5 git_last_commit_date: 2023-04-25 10:21:52 -0400 (Tue, 25 Apr 2023) Package: BiocGenerics Version: 0.46.0 Maintainer: Hervé Pagès MaintainerEmail: hpages.on.github at gmail.com