Package: BiocFHIR Version: 1.2.0 Command: F:\biocbuild\bbs-3.17-bioc\R\bin\R.exe CMD check --no-multiarch --install=check:BiocFHIR.install-out.txt --library=F:\biocbuild\bbs-3.17-bioc\R\library --no-vignettes --timings BiocFHIR_1.2.0.tar.gz StartedAt: 2023-10-15 23:53:17 -0400 (Sun, 15 Oct 2023) EndedAt: 2023-10-15 23:54:44 -0400 (Sun, 15 Oct 2023) EllapsedTime: 87.1 seconds RetCode: 0 Status: OK CheckDir: BiocFHIR.Rcheck Warnings: 0