git_url: https://git.bioconductor.org/packages/BioNetStat
git_branch: RELEASE_3_17
git_last_commit: 342fd55
git_last_commit_date: 2023-04-25 11:01:24 -0400 (Tue, 25 Apr 2023)
Package: BioNetStat
Version: 1.20.0
Maintainer: Vinicius Jardim
MaintainerEmail: viniciusjc at gmail.com